BEGIN:VCALENDAR
VERSION:2.0
PRODID:-//Sivagiri Ashramam - ECPv6.15.11//NONSGML v1.0//EN
CALSCALE:GREGORIAN
METHOD:PUBLISH
X-WR-CALNAME:Sivagiri Ashramam
X-ORIGINAL-URL:https://www.sivagiriashramnorthamerica.org
X-WR-CALDESC:Events for Sivagiri Ashramam
REFRESH-INTERVAL;VALUE=DURATION:PT1H
X-Robots-Tag:noindex
X-PUBLISHED-TTL:PT1H
BEGIN:VTIMEZONE
TZID:Asia/Kolkata
BEGIN:STANDARD
TZOFFSETFROM:+0530
TZOFFSETTO:+0530
TZNAME:IST
DTSTART:20220101T000000
END:STANDARD
END:VTIMEZONE
BEGIN:VEVENT
DTSTART;VALUE=DATE:20230527
DTEND;VALUE=DATE:20230529
DTSTAMP:20260425T114832
CREATED:20230310T134849Z
LAST-MODIFIED:20230428T081451Z
UID:1623-1685145600-1685318399@www.sivagiriashramnorthamerica.org
SUMMARY:Inauguration Ceremony of SANA's New Facility
DESCRIPTION:We cordially invite and urge you to join us for the inauguration of our new facility located at 9970 Marshall Corner Road\, White Plains\, MD. The event is scheduled for May 28\, 2023\, and we would be honoured to have your presence and support. In commemoration of this special occasion\, we intend to publish a memorable souvenir. We welcome and encourage scholarly articles\, compliments\, and advertisements from esteemed individuals and organizations\, including your valuable contributions. \nWe are proud to announce that a bronze idol of sage Sree Narayana Guru will be installed in our prayer hall\, making it a significant highlight of the ceremony. We humbly request your sincere support and blessings on this momentous occasion. Please do not hesitate to contact us for further details or assistance. \n\n 
URL:https://www.sivagiriashramnorthamerica.org/event/inauguration-ceremony-of-sanas-new-facility/
LOCATION:North Point High School\, 2500 Davis Rd\, Waldorf\,\, MD\, 20603\, United States
ATTACH;FMTTYPE=image/png:https://www.sivagiriashramnorthamerica.org/wp-content/uploads/2021/01/sana-logo.png
ORGANIZER;CN="SANA":MAILTO:sivagiriashramusa@gmail.com
END:VEVENT
END:VCALENDAR